BEGIN:VCALENDAR
VERSION:2.0
PRODID:-//Friends of The Great Falls Discovery Center - ECPv6.15.20//NONSGML v1.0//EN
CALSCALE:GREGORIAN
METHOD:PUBLISH
X-ORIGINAL-URL:https://greatfallsdiscoverycenter.org
X-WR-CALDESC:Events for Friends of The Great Falls Discovery Center
REFRESH-INTERVAL;VALUE=DURATION:PT1H
X-Robots-Tag:noindex
X-PUBLISHED-TTL:PT1H
BEGIN:VTIMEZONE
TZID:America/New_York
BEGIN:DAYLIGHT
TZOFFSETFROM:-0500
TZOFFSETTO:-0400
TZNAME:EDT
DTSTART:20240310T070000
END:DAYLIGHT
BEGIN:STANDARD
TZOFFSETFROM:-0400
TZOFFSETTO:-0500
TZNAME:EST
DTSTART:20241103T060000
END:STANDARD
BEGIN:DAYLIGHT
TZOFFSETFROM:-0500
TZOFFSETTO:-0400
TZNAME:EDT
DTSTART:20250309T070000
END:DAYLIGHT
BEGIN:STANDARD
TZOFFSETFROM:-0400
TZOFFSETTO:-0500
TZNAME:EST
DTSTART:20251102T060000
END:STANDARD
BEGIN:DAYLIGHT
TZOFFSETFROM:-0500
TZOFFSETTO:-0400
TZNAME:EDT
DTSTART:20260308T070000
END:DAYLIGHT
BEGIN:STANDARD
TZOFFSETFROM:-0400
TZOFFSETTO:-0500
TZNAME:EST
DTSTART:20261101T060000
END:STANDARD
END:VTIMEZONE
BEGIN:VEVENT
DTSTART;VALUE=DATE:20250403
DTEND;VALUE=DATE:20250501
DTSTAMP:20260419T131017
CREATED:20250314T200253Z
LAST-MODIFIED:20250314T200253Z
UID:4856-1743638400-1746057599@greatfallsdiscoverycenter.org
SUMMARY:Ongoing: Indoor StoryWalk ® — One Earth
DESCRIPTION:Enjoy the indoor StoryWalk®\, One Earth by Eileen Spinelli\, which is an open invitation to both celebrate our planet and honor it through stewardship. Count the reasons to love the planet and ways to protect it. For ages 4—8 and anyone who loves the earth\, accompanied by an adult. Meet at the welcome desk. \nThe StoryWalk® Project was created by Anne Ferguson of Montpelier\, VT\, and developed in collaboration with the Kellogg-Hubbard Library. Story Walk® is a registered service mark owned by Ms. Ferguson. This StoryWalk® is provided by Massachusetts Department of Conservation and Recreation Interpretive Services.
URL:https://greatfallsdiscoverycenter.org/calendar/ongoing-indoor-storywalk-one-earth/
LOCATION:Great Falls Discovery Center\, 2 Avenue A\, Turners Falls\, MA\, 01376\, United States
CATEGORIES:Children,Nature,Science,Stewardship,Story Walk
ATTACH;FMTTYPE=image/jpeg:https://greatfallsdiscoverycenter.org/wp-content/uploads/2024/03/One-earth-image.jpg
END:VEVENT
END:VCALENDAR