BEGIN:VCALENDAR
VERSION:2.0
PRODID:-//Friends of The Great Falls Discovery Center - ECPv6.15.20//NONSGML v1.0//EN
CALSCALE:GREGORIAN
METHOD:PUBLISH
X-WR-CALNAME:Friends of The Great Falls Discovery Center
X-ORIGINAL-URL:https://greatfallsdiscoverycenter.org
X-WR-CALDESC:Events for Friends of The Great Falls Discovery Center
REFRESH-INTERVAL;VALUE=DURATION:PT1H
X-Robots-Tag:noindex
X-PUBLISHED-TTL:PT1H
BEGIN:VTIMEZONE
TZID:America/New_York
BEGIN:DAYLIGHT
TZOFFSETFROM:-0500
TZOFFSETTO:-0400
TZNAME:EDT
DTSTART:20240310T070000
END:DAYLIGHT
BEGIN:STANDARD
TZOFFSETFROM:-0400
TZOFFSETTO:-0500
TZNAME:EST
DTSTART:20241103T060000
END:STANDARD
BEGIN:DAYLIGHT
TZOFFSETFROM:-0500
TZOFFSETTO:-0400
TZNAME:EDT
DTSTART:20250309T070000
END:DAYLIGHT
BEGIN:STANDARD
TZOFFSETFROM:-0400
TZOFFSETTO:-0500
TZNAME:EST
DTSTART:20251102T060000
END:STANDARD
BEGIN:DAYLIGHT
TZOFFSETFROM:-0500
TZOFFSETTO:-0400
TZNAME:EDT
DTSTART:20260308T070000
END:DAYLIGHT
BEGIN:STANDARD
TZOFFSETFROM:-0400
TZOFFSETTO:-0500
TZNAME:EST
DTSTART:20261101T060000
END:STANDARD
END:VTIMEZONE
BEGIN:VEVENT
DTSTART;VALUE=DATE:20250213
DTEND;VALUE=DATE:20250301
DTSTAMP:20260419T130914
CREATED:20250118T200737Z
LAST-MODIFIED:20250118T200820Z
UID:4732-1739404800-1740787199@greatfallsdiscoverycenter.org
SUMMARY:Ongoing - Indoor StoryWalks® - Rabbit’s Snow Dance
DESCRIPTION:Explore the lives of active and resting winter wildlife through stories. For ages 3 and up\, accompanied by an adult. Meet at the welcome desk. At the end of the StoryWalk® enjoy reading more books about snow and winter from our collection. \n2/1—2/12: Tracks in the Snow\, by Wong Herbert Yee \n2/13—2/28: Rabbit’s Snow Dance by Joseph Bruchac. \nThe StoryWalk® Project was created by Anne Ferguson of Montpelier\, VT and developed in collaboration with the Kellogg-Hubbard Library. Story Walk® is a registered service mark owned by Ms. Ferguson. This StoryWalk® is provided by Massachusetts Department of Conservation and Recreation Interpretive Services.
URL:https://greatfallsdiscoverycenter.org/calendar/indoor-storywalks-rabbits-snow-dance/
LOCATION:Great Falls Discovery Center\, 2 Avenue A\, Turners Falls\, MA\, 01376\, United States
CATEGORIES:Children,Story Walk
ATTACH;FMTTYPE=image/jpeg:https://greatfallsdiscoverycenter.org/wp-content/uploads/2022/12/Rabbits-Snow-Dance-Cover.jpg
END:VEVENT
END:VCALENDAR