BEGIN:VCALENDAR
VERSION:2.0
PRODID:-//Friends of The Great Falls Discovery Center - ECPv6.15.20//NONSGML v1.0//EN
CALSCALE:GREGORIAN
METHOD:PUBLISH
X-ORIGINAL-URL:https://greatfallsdiscoverycenter.org
X-WR-CALDESC:Events for Friends of The Great Falls Discovery Center
REFRESH-INTERVAL;VALUE=DURATION:PT1H
X-Robots-Tag:noindex
X-PUBLISHED-TTL:PT1H
BEGIN:VTIMEZONE
TZID:America/New_York
BEGIN:DAYLIGHT
TZOFFSETFROM:-0500
TZOFFSETTO:-0400
TZNAME:EDT
DTSTART:20240310T070000
END:DAYLIGHT
BEGIN:STANDARD
TZOFFSETFROM:-0400
TZOFFSETTO:-0500
TZNAME:EST
DTSTART:20241103T060000
END:STANDARD
BEGIN:DAYLIGHT
TZOFFSETFROM:-0500
TZOFFSETTO:-0400
TZNAME:EDT
DTSTART:20250309T070000
END:DAYLIGHT
BEGIN:STANDARD
TZOFFSETFROM:-0400
TZOFFSETTO:-0500
TZNAME:EST
DTSTART:20251102T060000
END:STANDARD
BEGIN:DAYLIGHT
TZOFFSETFROM:-0500
TZOFFSETTO:-0400
TZNAME:EDT
DTSTART:20260308T070000
END:DAYLIGHT
BEGIN:STANDARD
TZOFFSETFROM:-0400
TZOFFSETTO:-0500
TZNAME:EST
DTSTART:20261101T060000
END:STANDARD
END:VTIMEZONE
BEGIN:VEVENT
DTSTART;VALUE=DATE:20250103
DTEND;VALUE=DATE:20250127
DTSTAMP:20260421T152538
CREATED:20241215T183516Z
LAST-MODIFIED:20241221T203829Z
UID:4674-1735862400-1737935999@greatfallsdiscoverycenter.org
SUMMARY:Ongoing: Indoor StoryWalk® — Under the Snow
DESCRIPTION:Explore the lives of active and resting winter wildlife\, in the book\, Under the Snow\, by Melissa Stewart. For ages 3 and up\, accompanied by an adult. Meet at the welcome desk. At the end of the StoryWalk® enjoy reading more books about snow and winter from our collection. The StoryWalk® Project was created by Anne Ferguson of Montpelier\, VT and developed in collaboration with the Kellogg-Hubbard Library. Story Walk® is a registered service mark owned by Ms. Ferguson. This StoryWalk® is provided by Massachusetts Department of Conservation and Recreation Interpretive Services.
URL:https://greatfallsdiscoverycenter.org/calendar/indoor-storywalk-under-the-snow/
LOCATION:Great Falls Discovery Center\, 2 Avenue A\, Turners Falls\, MA\, 01376\, United States
CATEGORIES:Children,Nature,Science,Stewardship,Story Walk
ATTACH;FMTTYPE=image/jpeg:https://greatfallsdiscoverycenter.org/wp-content/uploads/2022/12/Under-the-snow-cover.jpg
END:VEVENT
END:VCALENDAR