BEGIN:VCALENDAR
VERSION:2.0
PRODID:-//Friends of The Great Falls Discovery Center - ECPv6.15.20//NONSGML v1.0//EN
CALSCALE:GREGORIAN
METHOD:PUBLISH
X-WR-CALNAME:Friends of The Great Falls Discovery Center
X-ORIGINAL-URL:https://greatfallsdiscoverycenter.org
X-WR-CALDESC:Events for Friends of The Great Falls Discovery Center
REFRESH-INTERVAL;VALUE=DURATION:PT1H
X-Robots-Tag:noindex
X-PUBLISHED-TTL:PT1H
BEGIN:VTIMEZONE
TZID:America/New_York
BEGIN:DAYLIGHT
TZOFFSETFROM:-0500
TZOFFSETTO:-0400
TZNAME:EDT
DTSTART:20240310T070000
END:DAYLIGHT
BEGIN:STANDARD
TZOFFSETFROM:-0400
TZOFFSETTO:-0500
TZNAME:EST
DTSTART:20241103T060000
END:STANDARD
BEGIN:DAYLIGHT
TZOFFSETFROM:-0500
TZOFFSETTO:-0400
TZNAME:EDT
DTSTART:20250309T070000
END:DAYLIGHT
BEGIN:STANDARD
TZOFFSETFROM:-0400
TZOFFSETTO:-0500
TZNAME:EST
DTSTART:20251102T060000
END:STANDARD
BEGIN:DAYLIGHT
TZOFFSETFROM:-0500
TZOFFSETTO:-0400
TZNAME:EDT
DTSTART:20260308T070000
END:DAYLIGHT
BEGIN:STANDARD
TZOFFSETFROM:-0400
TZOFFSETTO:-0500
TZNAME:EST
DTSTART:20261101T060000
END:STANDARD
END:VTIMEZONE
BEGIN:VEVENT
DTSTART;VALUE=DATE:20250701
DTEND;VALUE=DATE:20250827
DTSTAMP:20260421T065732
CREATED:20250622T203727Z
LAST-MODIFIED:20250720T162925Z
UID:5133-1751328000-1756252799@greatfallsdiscoverycenter.org
SUMMARY:Ongoing: Outdoor StoryWalk® — Agua\, Agüita: Water\, Little Water
DESCRIPTION:Enjoy a story\, fresh air and exercise! Join us on the Discovery Center’s grounds for a free self-guided StoryWalk® featuring Agua\, Agüita: Water\, Little Water by Jorge Tetl Argueta. For ages 4 to 7 and anyone who appreciates the water cycle! Follow the path to book pages posted along the route. \nThe StoryWalk® Project was created by Anne Ferguson of Montpelier\, VT\, and developed in collaboration with the Kellogg-Hubbard Library. Story Walk® is a registered service mark owned by Ms. Ferguson. This StoryWalk® is provided by Massachusetts Department of Conservation and Recreation Interpretive Services.
URL:https://greatfallsdiscoverycenter.org/calendar/outdoor-storywalk-agua-aguita-water-little-water/
LOCATION:Great Falls Discovery Center\, 2 Avenue A\, Turners Falls\, MA\, 01376\, United States
CATEGORIES:Children,Nature,Science,Stewardship,Story Walk
ATTACH;FMTTYPE=image/jpeg:https://greatfallsdiscoverycenter.org/wp-content/uploads/2023/07/Agua-Aguita.jpeg
END:VEVENT
BEGIN:VEVENT
DTSTART;TZID=America/New_York:20250704T103000
DTEND;TZID=America/New_York:20250704T113000
DTSTAMP:20260421T065732
CREATED:20250622T210248Z
LAST-MODIFIED:20250622T211331Z
UID:5145-1751625000-1751628600@greatfallsdiscoverycenter.org
SUMMARY:Kidleidoscope Story Hour - Eagles
DESCRIPTION:Yes\, we are open on the holiday\, ready with a story for you! For ages 3-6\, accompanied by an adult. Learn more about our wildlife neighbors in the Connecticut River Watershed. Program includes a story\, activities\, and crafts. Activities are indoors and outdoors\, weather permitting. Siblings and friends welcome. Meet in the Great Hall.
URL:https://greatfallsdiscoverycenter.org/calendar/kidleidoscope-story-hour-eagles-3/
LOCATION:Great Falls Discovery Center\, 2 Avenue A\, Turners Falls\, MA\, 01376\, United States
CATEGORIES:Children,Crafts,Nature,Stewardship,Story Time
ATTACH;FMTTYPE=image/jpeg:https://greatfallsdiscoverycenter.org/wp-content/uploads/2025/06/eagle-head.jpg
END:VEVENT
END:VCALENDAR