BEGIN:VCALENDAR
VERSION:2.0
PRODID:-//Friends of The Great Falls Discovery Center - ECPv6.15.20//NONSGML v1.0//EN
CALSCALE:GREGORIAN
METHOD:PUBLISH
X-ORIGINAL-URL:https://greatfallsdiscoverycenter.org
X-WR-CALDESC:Events for Friends of The Great Falls Discovery Center
REFRESH-INTERVAL;VALUE=DURATION:PT1H
X-Robots-Tag:noindex
X-PUBLISHED-TTL:PT1H
BEGIN:VTIMEZONE
TZID:America/New_York
BEGIN:DAYLIGHT
TZOFFSETFROM:-0500
TZOFFSETTO:-0400
TZNAME:EDT
DTSTART:20230312T070000
END:DAYLIGHT
BEGIN:STANDARD
TZOFFSETFROM:-0400
TZOFFSETTO:-0500
TZNAME:EST
DTSTART:20231105T060000
END:STANDARD
BEGIN:DAYLIGHT
TZOFFSETFROM:-0500
TZOFFSETTO:-0400
TZNAME:EDT
DTSTART:20240310T070000
END:DAYLIGHT
BEGIN:STANDARD
TZOFFSETFROM:-0400
TZOFFSETTO:-0500
TZNAME:EST
DTSTART:20241103T060000
END:STANDARD
BEGIN:DAYLIGHT
TZOFFSETFROM:-0500
TZOFFSETTO:-0400
TZNAME:EDT
DTSTART:20250309T070000
END:DAYLIGHT
BEGIN:STANDARD
TZOFFSETFROM:-0400
TZOFFSETTO:-0500
TZNAME:EST
DTSTART:20251102T060000
END:STANDARD
END:VTIMEZONE
BEGIN:VEVENT
DTSTART;TZID=America/New_York:20240711T153000
DTEND;TZID=America/New_York:20240711T173000
DTSTAMP:20260419T082247
CREATED:20240619T191532Z
LAST-MODIFIED:20240619T191532Z
UID:4272-1720711800-1720719000@greatfallsdiscoverycenter.org
SUMMARY:Smokey Bear’s 80th Birthday Party!
DESCRIPTION:Free and for all ages. Join Wildland Firefighters from the DCR Bureau of Fire Control & Forestry. Hear a reading of the Smokey Bear Story at 3:30 and 4:30 p.m. Learn about campfire safety. Tour a Wildland Fire Engine\, try a scavenger hunt\, and at 4:00 and 5:00 p.m. meet Smokey Bear himself! Take home a Smokey Story mini book and a party favor bag\, including Smokey Bear materials. Refreshments provided. Sponsored by DCR and Montague Public Libraries. Rain or shine. Meet outside the Great Hall.
URL:https://greatfallsdiscoverycenter.org/calendar/smokey-bears-80th-birthday-party/
LOCATION:Great Falls Discovery Center\, 2 Avenue A\, Turners Falls\, MA\, 01376\, United States
CATEGORIES:Children,Stewardship,Story Time
ATTACH;FMTTYPE=image/png:https://greatfallsdiscoverycenter.org/wp-content/uploads/2024/06/Smokey-Bear-80th-birthday-graphic-smaller.png
END:VEVENT
END:VCALENDAR