BEGIN:VCALENDAR
VERSION:2.0
PRODID:-//Friends of The Great Falls Discovery Center - ECPv6.15.20//NONSGML v1.0//EN
CALSCALE:GREGORIAN
METHOD:PUBLISH
X-ORIGINAL-URL:https://greatfallsdiscoverycenter.org
X-WR-CALDESC:Events for Friends of The Great Falls Discovery Center
REFRESH-INTERVAL;VALUE=DURATION:PT1H
X-Robots-Tag:noindex
X-PUBLISHED-TTL:PT1H
BEGIN:VTIMEZONE
TZID:America/New_York
BEGIN:DAYLIGHT
TZOFFSETFROM:-0500
TZOFFSETTO:-0400
TZNAME:EDT
DTSTART:20230312T070000
END:DAYLIGHT
BEGIN:STANDARD
TZOFFSETFROM:-0400
TZOFFSETTO:-0500
TZNAME:EST
DTSTART:20231105T060000
END:STANDARD
BEGIN:DAYLIGHT
TZOFFSETFROM:-0500
TZOFFSETTO:-0400
TZNAME:EDT
DTSTART:20240310T070000
END:DAYLIGHT
BEGIN:STANDARD
TZOFFSETFROM:-0400
TZOFFSETTO:-0500
TZNAME:EST
DTSTART:20241103T060000
END:STANDARD
BEGIN:DAYLIGHT
TZOFFSETFROM:-0500
TZOFFSETTO:-0400
TZNAME:EDT
DTSTART:20250309T070000
END:DAYLIGHT
BEGIN:STANDARD
TZOFFSETFROM:-0400
TZOFFSETTO:-0500
TZNAME:EST
DTSTART:20251102T060000
END:STANDARD
END:VTIMEZONE
BEGIN:VEVENT
DTSTART;TZID=America/New_York:20240114T140000
DTEND;TZID=America/New_York:20240114T153000
DTSTAMP:20260421T095025
CREATED:20231126T173102Z
LAST-MODIFIED:20231226T173453Z
UID:3603-1705240800-1705246200@greatfallsdiscoverycenter.org
SUMMARY:Food\, Farms\, and Factories: Sunday Matinee Documentary Series - A Long Row in Fertile Ground
DESCRIPTION:A Long Row in Fertile Ground by WGBY. The story of agriculture in Western New England. Meet retired WGBY General Manager Rus Peotter for a discussion after the film.  Snow date: 1/21. \n“Western New England’s agricultural legacy has persisted for more than three centuries. In many ways it is the birthplace of American agriculture that exists to this day. The Connecticut River Valley is home to New England’s longest river\, a remnant of the last Ice Age. But the receding glaciers also left behind another gift—some of the richest soil on Earth.” –From WGBY \nIn this Food\, Farms\, and Factories documentary series you’ll hear directly from historians and those who are a part of local food systems\, agriculture\, or manufacturing in our region. Sponsored by Mass Humanities\, the Massachusetts Cultural Council\, and the National Endowment for the Humanities. Light refreshments. Meet in the Great Hall. \nOngoing in 2024 \nThroughout 2024 the Friends of the Great Falls Discovery Center present programs and exhibits about Food\, Farms\, and Factories. Building on the success of Crossroads: Change in Rural America in 2023\, the conversation continues about rural life in Turners Falls and Franklin County. Supported by several local partners\, including the Friends of the Great Falls Discovery Center\, RiverCulture\, Montague Public Libraries\, the Department of Conservation and Recreation\, and the Pocumtuck Valley Memorial Association. Funded by Mass Humanities through the Massachusetts Cultural Council (MCC) and National Endowment for the Humanities (NEH). Visit:  greatfallsdiscoverycenter.org/foodfarmsandfactories to learn more.
URL:https://greatfallsdiscoverycenter.org/calendar/coming-soon-food-farms-and-factories-documentary-series/
LOCATION:Great Falls Discovery Center\, 2 Avenue A\, Turners Falls\, MA\, 01376\, United States
CATEGORIES:crossroads,Food farms and factories,Talk
ATTACH;FMTTYPE=image/jpeg:https://greatfallsdiscoverycenter.org/wp-content/uploads/2023/11/a-long-row-in-fertile-ground.jpg
END:VEVENT
END:VCALENDAR