BEGIN:VCALENDAR
VERSION:2.0
PRODID:-//Friends of The Great Falls Discovery Center - ECPv6.15.20//NONSGML v1.0//EN
CALSCALE:GREGORIAN
METHOD:PUBLISH
X-WR-CALNAME:Friends of The Great Falls Discovery Center
X-ORIGINAL-URL:https://greatfallsdiscoverycenter.org
X-WR-CALDESC:Events for Friends of The Great Falls Discovery Center
REFRESH-INTERVAL;VALUE=DURATION:PT1H
X-Robots-Tag:noindex
X-PUBLISHED-TTL:PT1H
BEGIN:VTIMEZONE
TZID:America/New_York
BEGIN:DAYLIGHT
TZOFFSETFROM:-0500
TZOFFSETTO:-0400
TZNAME:EDT
DTSTART:20240310T070000
END:DAYLIGHT
BEGIN:STANDARD
TZOFFSETFROM:-0400
TZOFFSETTO:-0500
TZNAME:EST
DTSTART:20241103T060000
END:STANDARD
BEGIN:DAYLIGHT
TZOFFSETFROM:-0500
TZOFFSETTO:-0400
TZNAME:EDT
DTSTART:20250309T070000
END:DAYLIGHT
BEGIN:STANDARD
TZOFFSETFROM:-0400
TZOFFSETTO:-0500
TZNAME:EST
DTSTART:20251102T060000
END:STANDARD
BEGIN:DAYLIGHT
TZOFFSETFROM:-0500
TZOFFSETTO:-0400
TZNAME:EDT
DTSTART:20260308T070000
END:DAYLIGHT
BEGIN:STANDARD
TZOFFSETFROM:-0400
TZOFFSETTO:-0500
TZNAME:EST
DTSTART:20261101T060000
END:STANDARD
END:VTIMEZONE
BEGIN:VEVENT
DTSTART;TZID=America/New_York:20250802T100000
DTEND;TZID=America/New_York:20250802T170000
DTSTAMP:20260420T104100
CREATED:20250720T202552Z
LAST-MODIFIED:20250720T202728Z
UID:5213-1754128800-1754154000@greatfallsdiscoverycenter.org
SUMMARY:Pocumtuck Homelands Festival: Fish Printing
DESCRIPTION:A free two-day celebration at Unity Park on First Street in Turners Falls\, sponsored by the Nolumbeka Project and RiverCulture. This festival is the perfect combination of live music\, drumming\, dancing\, storytelling\, native crafts and food. On Saturday August 2\, 10 a.m.— 5 p.m.\, families may visit the Northfield Mountain & Great Falls Discovery Center tent to make your own vibrantly colored fish print to take home. All materials provided. For more information on the entire event visit nolumbekaproject.org/events.
URL:https://greatfallsdiscoverycenter.org/calendar/pocumtuck-homelands-festival-fish-printing/
LOCATION:Great Falls Discovery Center\, 2 Avenue A\, Turners Falls\, MA\, 01376\, United States
CATEGORIES:Art,Children,Crafts,Nature
ATTACH;FMTTYPE=image/jpeg:https://greatfallsdiscoverycenter.org/wp-content/uploads/2025/07/Fish-print-image-smaller.jpg
END:VEVENT
END:VCALENDAR