BEGIN:VCALENDAR
VERSION:2.0
PRODID:-//Friends of The Great Falls Discovery Center - ECPv6.15.20//NONSGML v1.0//EN
CALSCALE:GREGORIAN
METHOD:PUBLISH
X-WR-CALNAME:Friends of The Great Falls Discovery Center
X-ORIGINAL-URL:https://greatfallsdiscoverycenter.org
X-WR-CALDESC:Events for Friends of The Great Falls Discovery Center
REFRESH-INTERVAL;VALUE=DURATION:PT1H
X-Robots-Tag:noindex
X-PUBLISHED-TTL:PT1H
BEGIN:VTIMEZONE
TZID:America/New_York
BEGIN:DAYLIGHT
TZOFFSETFROM:-0500
TZOFFSETTO:-0400
TZNAME:EDT
DTSTART:20240310T070000
END:DAYLIGHT
BEGIN:STANDARD
TZOFFSETFROM:-0400
TZOFFSETTO:-0500
TZNAME:EST
DTSTART:20241103T060000
END:STANDARD
BEGIN:DAYLIGHT
TZOFFSETFROM:-0500
TZOFFSETTO:-0400
TZNAME:EDT
DTSTART:20250309T070000
END:DAYLIGHT
BEGIN:STANDARD
TZOFFSETFROM:-0400
TZOFFSETTO:-0500
TZNAME:EST
DTSTART:20251102T060000
END:STANDARD
BEGIN:DAYLIGHT
TZOFFSETFROM:-0500
TZOFFSETTO:-0400
TZNAME:EDT
DTSTART:20260308T070000
END:DAYLIGHT
BEGIN:STANDARD
TZOFFSETFROM:-0400
TZOFFSETTO:-0500
TZNAME:EST
DTSTART:20261101T060000
END:STANDARD
END:VTIMEZONE
BEGIN:VEVENT
DTSTART;TZID=America/New_York:20250712T140000
DTEND;TZID=America/New_York:20250712T153000
DTSTAMP:20260420T104101
CREATED:20250619T213816Z
LAST-MODIFIED:20250622T213555Z
UID:5124-1752328800-1752334200@greatfallsdiscoverycenter.org
SUMMARY:DINO TRAIL WEEK: *  Art Naturally: Gel Printing Trace Fossils
DESCRIPTION:Discover nature and pre-history through story\, poetry and art in our series of free art programs. Create an art piece inspired by the valley’s fossilized dinosaur footprints using paint\, paper and gel\, with instruction and techniques. For adults\, teens and children ages 6 and up. All art materials provided. Arrive at 2:00 p.m. for complete instructions \n* Dino Trail Week: \nDino Trail Week is a celebratory week of performances\, films\, talks\, exhibits\, and activities inspired by dinosaur footprints in the Connecticut River Valley. Look for events from all of our partners during Dino Trail Week: Friends of the Great Falls Discovery Center\, the Pocumtuck Valley Memorial Association\, Piti Theatre\, the Beneski Museum\, the Trustees of Reservations\, Springfield Science Museum\, Wistariahurst\, and the Franklin County Chamber of Commerce. Learn more at: dinotrail.org.
URL:https://greatfallsdiscoverycenter.org/calendar/dino-trail-week-art-naturally-gel-printing-trace-fossils/
LOCATION:Great Falls Discovery Center\, 2 Avenue A\, Turners Falls\, MA\, 01376\, United States
CATEGORIES:Art,Children,Crafts,Culture,Dino Trail Week,Geology,Nature,Science,Stewardship
ATTACH;FMTTYPE=image/jpeg:https://greatfallsdiscoverycenter.org/wp-content/uploads/2025/06/Dino-Trail-Week-Art-Naturally-Gel-Printing-Dino-Tracks.jpg
END:VEVENT
END:VCALENDAR