BEGIN:VCALENDAR
VERSION:2.0
PRODID:-//Friends of The Great Falls Discovery Center - ECPv6.15.20//NONSGML v1.0//EN
CALSCALE:GREGORIAN
METHOD:PUBLISH
X-ORIGINAL-URL:https://greatfallsdiscoverycenter.org
X-WR-CALDESC:Events for Friends of The Great Falls Discovery Center
REFRESH-INTERVAL;VALUE=DURATION:PT1H
X-Robots-Tag:noindex
X-PUBLISHED-TTL:PT1H
BEGIN:VTIMEZONE
TZID:America/New_York
BEGIN:DAYLIGHT
TZOFFSETFROM:-0500
TZOFFSETTO:-0400
TZNAME:EDT
DTSTART:20230312T070000
END:DAYLIGHT
BEGIN:STANDARD
TZOFFSETFROM:-0400
TZOFFSETTO:-0500
TZNAME:EST
DTSTART:20231105T060000
END:STANDARD
BEGIN:DAYLIGHT
TZOFFSETFROM:-0500
TZOFFSETTO:-0400
TZNAME:EDT
DTSTART:20240310T070000
END:DAYLIGHT
BEGIN:STANDARD
TZOFFSETFROM:-0400
TZOFFSETTO:-0500
TZNAME:EST
DTSTART:20241103T060000
END:STANDARD
BEGIN:DAYLIGHT
TZOFFSETFROM:-0500
TZOFFSETTO:-0400
TZNAME:EDT
DTSTART:20250309T070000
END:DAYLIGHT
BEGIN:STANDARD
TZOFFSETFROM:-0400
TZOFFSETTO:-0500
TZNAME:EST
DTSTART:20251102T060000
END:STANDARD
END:VTIMEZONE
BEGIN:VEVENT
DTSTART;TZID=America/New_York:20240413T103000
DTEND;TZID=America/New_York:20240413T120000
DTSTAMP:20260420T075611
CREATED:20240323T170734Z
LAST-MODIFIED:20240404T204938Z
UID:4027-1713004200-1713009600@greatfallsdiscoverycenter.org
SUMMARY:Art Naturally Series: Food\, Farms\, and Factories Edition*
DESCRIPTION:Discover culture and nature through story\, poetry\, and art in our series of free Art Naturally programs. Using words and images\, instruction\, and techniques you create an art piece inspired by natural or cultural history to take home. For adults\, teens\, and children ages 6 and up (accompanied by an adult). All art materials provided. This month’s art is inspired by the traditions of Polish and Eastern European immigrants who worked on local farms and in factories. Create woven and folded Polish paper stars. Meet in the Great Hall. \n*In 2024\, the Friends of the Great Falls Discovery Center present programs and exhibits about Food\, Farms\, and Factories\, continuing conversations about rural life in Turners Falls and Franklin County. Supported by the Friends of the Great Falls Discovery Center\, RiverCulture\, the Pocumtuck Valley Memorial Association\, the Department of Conservation and Recreation\, and Montague Public Libraries. Funded by Mass Humanities through the Massachusetts Cultural Council and the National Endowment for the Humanities.
URL:https://greatfallsdiscoverycenter.org/calendar/art-naturally-series-food-farms-and-factories-edition/
LOCATION:Great Falls Discovery Center\, 2 Avenue A\, Turners Falls\, MA\, 01376\, United States
CATEGORIES:Art,Crafts,Culture,Food farms and factories
ATTACH;FMTTYPE=image/jpeg:https://greatfallsdiscoverycenter.org/wp-content/uploads/2024/03/polish-paper-stars-smaller.jpg
END:VEVENT
END:VCALENDAR